BEGIN:VCALENDAR
VERSION:2.0
PRODID:-//ChamberMaster//Event Calendar 2.0//EN
METHOD:PUBLISH
X-PUBLISHED-TTL:P3D
REFRESH-INTERVAL:P3D
CALSCALE:GREGORIAN
BEGIN:VEVENT
DTSTART;VALUE=DATE:20240717
DTEND;VALUE=DATE:20240721
TRANSP:TRANSPARENT
X-MICROSOFT-CDO-ALLDAYEVENT:TRUE
SUMMARY:SC Governor's Cup Edisto Invitational Billfish Tournament
DESCRIPTION:Final leg in the Governor's Cup Billfish Tournament. Daily weigh in (starting Thurs 7/18)\, food and drinks\, live entertainment.\n\n\n\nFREE ~ Public Welcome! (Unless Specified)\n\nWeigh In\, Sponsor Tents\, Food Trucks\, DNR Simulator\, Live Music\n\nBring Chairs ~ Please no Coolers\n\n\n\nEvent Schedule \n\nWednesday\, July 17\n\n4pm Final Boat Registration & TWT (Participants Only 4:00pm-6:00pm)\n\n6pm Captain's Meeting followed by Dinner at the Park (Participants Only)\n\n7pm Live Entertainment by The Sound Dogs on the Dock\n\n    Sponsored by The Town of Edisto Beach\n\n\n\nThursday\, July 18\n\n8am Day 1 Fishing (2 Out of 3 Days 8:00am-3:00pm)\n\n5-7pm Weigh In on the Dock\n\n    Live Entertainment by Pat Patterson at the Park\n\n7-9pm Dinner at the Park (Sponsors and Participants Only)\n\n    Live Music with Bennett Coleman\n\n        Sponsored by Green Downstream/Carolina FirstMate\n\n\n\nFriday\, July 19\n\n8am Day 2 Fishing (2 Out of 3 Days 8:00am-3:00pm)\n\n5-7pm Weigh In on the Dock\n\n    Live Entertainment by Pat Patterson at the Park\n\n7-9pm Dinner at the Park (Sponsors and Participants Only)\n\n    Live Music with Jackson Truluck\n\n        Sponsored by Carolina One Vacation Rentals & Michelob Ultra\n\n\n\nSaturday\, July 20\n\n8am Day 3 Fishing (2 Out of 3 Days 8:00am-3:00pm)\n\n5-7pm Weigh In on the Dock\n\n    Live Entertainment by Pat Patterson at the Park\n\n7-9pm Dinner at the Park (Sponsors and Participants Only)\n\n    Live Music with Bennett Coleman Full Band\n\n        Sponsored by Makers Mark & Vacasa Vacation Home Management\n\n**Awards Ceremony Following Dinner on the Stage at the Park**
X-ALT-DESC;FMTTYPE=text/html:Final leg in the Governor&#39\;s Cup Billfish Tournament. Daily weigh in (starting Thurs 7/18)\, food and drinks\, live entertainment.<br />\n<br />\nFREE ~ Public Welcome! (Unless Specified)<br />\nWeigh In\, Sponsor Tents\, Food Trucks\, DNR Simulator\, Live Music<br />\nBring Chairs ~ Please no Coolers<br />\n<br />\n<span style="font-size:18px\;"><strong>Event Schedule </strong></span><br />\n<u><strong>Wednesday\, July 17</strong></u><br />\n4pm Final Boat Registration &amp\; TWT (Participants Only 4:00pm-6:00pm)<br />\n6pm Captain&rsquo\;s Meeting followed by Dinner at the Park (Participants Only)<br />\n7pm Live Entertainment by <em>The Sound Dogs</em> on the Dock<br />\n&nbsp\;&nbsp\;&nbsp\;&nbsp\;Sponsored by The Town of Edisto Beach<br />\n<br />\n<u><strong>Thursday\, July 18</strong></u><br />\n8am Day 1 Fishing (2 Out of 3 Days 8:00am-3:00pm)<br />\n5-7pm Weigh In on the Dock<br />\n&nbsp\;&nbsp\;&nbsp\;&nbsp\;Live Entertainment by Pat Patterson at the Park<br />\n7-9pm Dinner at the Park (Sponsors and Participants Only)<br />\n&nbsp\;&nbsp\;&nbsp\;&nbsp\;Live Music with <em>Bennett Coleman</em><br />\n&nbsp\;&nbsp\;&nbsp\;&nbsp\;&nbsp\;&nbsp\;&nbsp\;&nbsp\;Sponsored by Green Downstream/Carolina FirstMate<br />\n<br />\n<u><strong>Friday\, July 19</strong></u><br />\n8am Day 2 Fishing (2 Out of 3 Days 8:00am-3:00pm)<br />\n5-7pm Weigh In on the Dock<br />\n&nbsp\;&nbsp\;&nbsp\;&nbsp\;Live Entertainment by Pat Patterson at the Park<br />\n7-9pm Dinner at the Park (Sponsors and Participants Only)<br />\n&nbsp\;&nbsp\;&nbsp\;&nbsp\;Live Music with <em>Jackson Truluck</em><br />\n&nbsp\;&nbsp\;&nbsp\;&nbsp\;&nbsp\;&nbsp\;&nbsp\;&nbsp\;Sponsored by Carolina One Vacation Rentals &amp\; Michelob Ultra<br />\n<br />\n<u><strong>Saturday\, July 20</strong></u><br />\n8am Day 3 Fishing (2 Out of 3 Days 8:00am-3:00pm)<br />\n5-7pm Weigh In on the Dock<br />\n&nbsp\;&nbsp\;&nbsp\;&nbsp\;Live Entertainment by <em>Pat Patterson</em> at the Park<br />\n7-9pm Dinner at the Park (Sponsors and Participants Only)<br />\n&nbsp\;&nbsp\;&nbsp\;&nbsp\;Live Music with<em> Bennett Coleman Full Band</em><br />\n&nbsp\;&nbsp\;&nbsp\;&nbsp\;&nbsp\;&nbsp\;&nbsp\;&nbsp\;Sponsored by Makers Mark &amp\; Vacasa Vacation Home Management<br />\n<strong>**Awards Ceremony Following Dinner on the Stage at the Park**</strong>
LOCATION:The Marina at Edisto Beach
UID:e.2660.5577
SEQUENCE:3
DTSTAMP:20260422T181538Z
URL:https://members.edistochamber.com/events/details/sc-governor-s-cup-edisto-invitational-billfish-tournament-5577
END:VEVENT

END:VCALENDAR
