BEGIN:VCALENDAR
VERSION:2.0
PRODID:-//ChamberMaster//Event Calendar 2.0//EN
METHOD:PUBLISH
X-PUBLISHED-TTL:P3D
REFRESH-INTERVAL:P3D
CALSCALE:GREGORIAN
BEGIN:VEVENT
DTSTART;VALUE=DATE:20231114
DTEND;VALUE=DATE:20231115
TRANSP:TRANSPARENT
X-MICROSOFT-CDO-ALLDAYEVENT:TRUE
SUMMARY:Mutts & Putts Golf Fore Rescue
DESCRIPTION:The Plantation Course at Edisto and Ella & Ollie's will be hosting our 4th Annual Mutts & Putts ~ Golf Fore Rescue charity tournament to benefit the Animal Lovers of Edisto Canine Rescue!\n\n \n\nAnimal Lovers of Edisto rescues stray dogs in the Edisto Island area and also partners with neighboring Colleton County to provide shelter\, food\, vet care\, and most importantly\, love until the dogs are healthy and socialized enough to be adopted to a loving home.  All of the rescues receive veterinary care\, including an initial exam\, vaccinations and spay/neuter surgery\, but many have additional healthcare needs that might require medications\, treatment for heartworms and sometimes even surgery. Animal Lovers of Edisto also provides community outreach and volunteers always work hard to help locals and tourists find lost pets in our community.\n\nAnimal Lovers of Edisto depends solely on donations and volunteers to keep the organization going.\n\nAnimal Lovers of Edisto adopted out 33 dogs as of August 2023. In 2022 a total of 42 dogs found their Furever Families! They have also reunited many lost dogs with their owners.
X-ALT-DESC;FMTTYPE=text/html:<span style="font-size:12.0pt\;">The Plantation Course at Edisto and Ella &amp\; Ollie&rsquo\;s will be hosting our 4<sup>th</sup> Annual Mutts &amp\; Putts ~ Golf Fore Rescue charity tournament to benefit the Animal Lovers of Edisto Canine Rescue!</span><br />\n&nbsp\;<br />\n<span style="color:#333333\;"><span style="font-size:12.0pt\;">Animal Lovers of Edisto rescues stray dogs in the Edisto Island area and also partners with neighboring Colleton County to provide shelter\, food\, vet care\, and most importantly\, love until the dogs are healthy and socialized enough to be adopted to a loving home.&nbsp\; All of the rescues receive veterinary care\, including an initial exam\, vaccinations and spay/neuter surgery\, but many have additional healthcare needs that might require medications\, treatment for heartworms and sometimes even surgery. Animal Lovers of Edisto also provides community outreach and volunteers always work hard to help locals and tourists find lost pets in our community.</span></span><br />\n<span style="color:#333333\;"><span style="font-size:12.0pt\;">Animal Lovers of Edisto depends solely on donations and volunteers to keep the organization going.</span></span><br />\n<span style="font-size:12.0pt\;">Animal Lovers of Edisto adopted out 33 dogs as of August 2023. In 2022 a total of 42 dogs found their Furever Families! They have also reunited many lost dogs with their owners.</span><br />\n&nbsp\;
LOCATION:19 Fairway Drive
UID:e.2660.7794
SEQUENCE:3
DTSTAMP:20260423T184320Z
URL:https://members.edistochamber.com/events/details/mutts-putts-golf-fore-rescue-7794
END:VEVENT

END:VCALENDAR
