BEGIN:VCALENDAR
VERSION:2.0
PRODID:-//ChamberMaster//Event Calendar 2.0//EN
METHOD:PUBLISH
X-PUBLISHED-TTL:P3D
REFRESH-INTERVAL:P3D
CALSCALE:GREGORIAN
BEGIN:VEVENT
DTSTART:20250627T130000Z
DTEND:20250627T143000Z
X-MICROSOFT-CDO-ALLDAYEVENT:FALSE
SUMMARY:Lou's Brew Coffee Morning
DESCRIPTION:Come catch up on politics with involved locals.  Share your concerns and expectations.  The coffee is paid for by friend\, Lou\, and a yummy breakfast menu is available.  (Please consider supporting the hosting restaurant from time to time).
X-ALT-DESC;FMTTYPE=text/html:Come catch up on politics with involved locals.&nbsp\; Share your concerns and expectations.&nbsp\; The coffee is paid for by friend\, Lou\, and a yummy breakfast menu is available.&nbsp\; (Please consider supporting the hosting restaurant from time to time).&nbsp\;
LOCATION:Tortuga's Mexican Grill\, 114 Jungle Rd.\, Edisto Beach
UID:e.2660.9852
SEQUENCE:3
DTSTAMP:20260421T013623Z
URL:https://members.edistochamber.com/events/details/lou-s-brew-coffee-morning-06-27-2025-9852
END:VEVENT

END:VCALENDAR
