BEGIN:VCALENDAR
VERSION:2.0
PRODID:-//ChamberMaster//Event Calendar 2.0//EN
METHOD:PUBLISH
X-PUBLISHED-TTL:P3D
REFRESH-INTERVAL:P3D
CALSCALE:GREGORIAN
BEGIN:VEVENT
DTSTART:20260503T170000Z
DTEND:20260503T170000Z
X-MICROSOFT-CDO-ALLDAYEVENT:FALSE
SUMMARY:Legacy Live Oak Dedicatioin
DESCRIPTION:We are honored to invite you to our upcoming Legacy Live Oak Dedication.\n\n \n\nThis special gathering is an opportunity to come together and recognize the meaningful memorial and honorarium dedications that have been made\, celebrating lives\, legacies\, and the lasting impact they hold within our community.\n\nPlease join us as we honor these dedications beneath the live oaks. Light refreshments will be provided.\n\n \n\nThere is no need to RSVP this is an open gathering\, and we welcome all who would like to attend and share in this moment.
X-ALT-DESC;FMTTYPE=text/html:<p data-ogsc="" data-olk-copy-source="MessageBody" style="margin: 0px\; padding: 0px\; color: rgb(54\, 21\, 5)\; font-family: Arial\, Verdana\, Helvetica\, sans-serif\; font-size: 16px\; background-color: rgb(228\, 228\, 228)\;">We are honored to invite you to our upcoming Legacy Live Oak Dedication.</p>\n\n<p data-ogsc="" style="margin: 0px\; padding: 0px\; color: rgb(54\, 21\, 5)\; font-family: Arial\, Verdana\, Helvetica\, sans-serif\; font-size: 16px\; background-color: rgb(228\, 228\, 228)\;">&nbsp\;</p>\n\n<p data-ogsc="" style="margin: 0px\; padding: 0px\; color: rgb(54\, 21\, 5)\; font-family: Arial\, Verdana\, Helvetica\, sans-serif\; font-size: 16px\; background-color: rgb(228\, 228\, 228)\;">This special gathering is an opportunity to come together and recognize the meaningful memorial and honorarium dedications that have been made\, celebrating lives\, legacies\, and the lasting impact they hold within our community.</p>\n\n<p data-ogsc="" style="margin: 0px\; padding: 0px\; color: rgb(54\, 21\, 5)\; font-family: Arial\, Verdana\, Helvetica\, sans-serif\; font-size: 16px\; background-color: rgb(228\, 228\, 228)\;">Please join us as we honor these dedications beneath the live oaks.&nbsp\;<span data-ogsc="" style="border: 0px\; font-style: italic\; font-variant: inherit\; font-weight: inherit\; font-stretch: inherit\; font-size: inherit\; line-height: inherit\; font-family: inherit\; font-optical-sizing: inherit\; font-size-adjust: inherit\; font-kerning: inherit\; font-feature-settings: inherit\; font-variation-settings: inherit\; font-language-override: inherit\; margin: 0px\; padding: 0px\; vertical-align: baseline\; color: inherit\;">Light refreshments will be provided.</span></p>\n\n<p data-ogsc="" style="margin: 0px\; padding: 0px\; color: rgb(54\, 21\, 5)\; font-family: Arial\, Verdana\, Helvetica\, sans-serif\; font-size: 16px\; background-color: rgb(228\, 228\, 228)\;">&nbsp\;</p>\n\n<p data-ogsc="" style="margin: 0px\; padding: 0px\; color: rgb(54\, 21\, 5)\; font-family: Arial\, Verdana\, Helvetica\, sans-serif\; font-size: 16px\; background-color: rgb(228\, 228\, 228)\;">There is no need to RSVP&mdash\;this is an open gathering\, and we welcome all who would like to attend and share in this moment.</p>\n
LOCATION:Historic Store Creek Corner 8083 Point of Pines
UID:e.2660.11722
SEQUENCE:3
DTSTAMP:20260420T214303Z
URL:https://members.edistochamber.com/events/details/legacy-live-oak-dedicatioin-11722
END:VEVENT

END:VCALENDAR
