BEGIN:VCALENDAR
VERSION:2.0
PRODID:-//ChamberMaster//Event Calendar 2.0//EN
METHOD:PUBLISH
X-PUBLISHED-TTL:P3D
REFRESH-INTERVAL:P3D
CALSCALE:GREGORIAN
BEGIN:VEVENT
DTSTART:20231208T150000Z
DTEND:20231208T210000Z
X-MICROSOFT-CDO-ALLDAYEVENT:FALSE
SUMMARY:Holiday Market & Mingle
DESCRIPTION:Holiday Market from 10am - 4pm\n\nVendors\, Music\, Food Truck\, Beer & Wine
X-ALT-DESC;FMTTYPE=text/html:<font face="arial"><span style="font-size: 14px\;">Holiday Market from 10am - 4pm</span></font><br />\n<font face="arial"><span style="font-size: 14px\;">Vendors\, Music\, Food Truck\, Beer &amp\; Wine</span></font>
LOCATION:Bay Creek Park 3706 Docksite Road
UID:e.2660.3870
SEQUENCE:3
DTSTAMP:20260423T184345Z
URL:https://members.edistochamber.com/events/details/holiday-market-mingle-12-08-2023-3870
END:VEVENT

END:VCALENDAR
