BEGIN:VCALENDAR
VERSION:2.0
PRODID:-//ChamberMaster//Event Calendar 2.0//EN
METHOD:PUBLISH
X-PUBLISHED-TTL:P3D
REFRESH-INTERVAL:P3D
CALSCALE:GREGORIAN
BEGIN:VEVENT
DTSTART:20220909T210000Z
DTEND:20220910T000000Z
X-MICROSOFT-CDO-ALLDAYEVENT:FALSE
SUMMARY:George and Pink Homecoming Celebration and House Blessing
DESCRIPTION:The project to build George and Pink a new home is coming to a successful completion on September 9\, with a Homecoming Celebration and House Blessing\, Friday\, September 9\, 5 pm\, at the home next to George & Pink's Vegetable Market\, 7971 Edingsville Beach Road. There will a short program\, the opportunity to tour the house\, and food provided by Shorty's Smokin' Butts and George and Pink's family.
X-ALT-DESC;FMTTYPE=text/html:<span style="font-family:calibri\,sans-serif\;"><span style="font-size:11.0pt\;">The project to build George and Pink a new home is coming to a successful completion on September 9\, with a Homecoming Celebration and House Blessing\, Friday\, September 9\, 5 pm\, at the home next to George &amp\; Pink&rsquo\;s Vegetable Market\, 7971 Edingsville Beach Road. There will a short program\, the opportunity to tour the house\, and food provided by Shorty&rsquo\;s Smokin&rsquo\; Butts and George and Pink&rsquo\;s family.</span></span>
LOCATION:971 Edingsville Beach Road
UID:e.2660.3832
SEQUENCE:3
DTSTAMP:20260422T100333Z
URL:https://members.edistochamber.com/events/details/george-and-pink-homecoming-celebration-and-house-blessing-3832
END:VEVENT

END:VCALENDAR
