BEGIN:VCALENDAR
VERSION:2.0
PRODID:-//ChamberMaster//Event Calendar 2.0//EN
METHOD:PUBLISH
X-PUBLISHED-TTL:P3D
REFRESH-INTERVAL:P3D
CALSCALE:GREGORIAN
BEGIN:VEVENT
DTSTART;VALUE=DATE:20241026
DTEND;VALUE=DATE:20241027
TRANSP:TRANSPARENT
X-MICROSOFT-CDO-ALLDAYEVENT:TRUE
SUMMARY:Edisto Watersports & Tackle Redfish Tournament
DESCRIPTION:For more information call 843-869-0663.
X-ALT-DESC;FMTTYPE=text/html:For more information call 843-869-0663.
LOCATION:Edisto Watersports & Tackle
UID:e.2660.3557
SEQUENCE:3
DTSTAMP:20260423T184640Z
URL:https://members.edistochamber.com/events/details/edisto-watersports-tackle-redfish-tournament-3557
END:VEVENT

END:VCALENDAR
