BEGIN:VCALENDAR
VERSION:2.0
PRODID:-//ChamberMaster//Event Calendar 2.0//EN
METHOD:PUBLISH
X-PUBLISHED-TTL:P3D
REFRESH-INTERVAL:P3D
CALSCALE:GREGORIAN
BEGIN:VEVENT
DTSTART;VALUE=DATE:20230901
DTEND;VALUE=DATE:20230904
TRANSP:TRANSPARENT
X-MICROSOFT-CDO-ALLDAYEVENT:TRUE
SUMMARY:Edisto Beach Shag Festival
DESCRIPTION:Come join us this Labor Day Weekend in Edisto Beach for the Annual Edisto Beach Shag Festival. Great family fun and live music.
X-ALT-DESC;FMTTYPE=text/html:Come join us this Labor Day Weekend in Edisto Beach for the Annual Edisto Beach Shag Festival. Great family fun and live music.<br />\n<br />\n&nbsp\;
LOCATION:Bay Creek Park (next to The Marina at Edisto Beach)
UID:e.2660.3123
SEQUENCE:3
DTSTAMP:20260423T221130Z
URL:https://members.edistochamber.com/events/details/edisto-beach-shag-festival-3123
END:VEVENT

END:VCALENDAR
