BEGIN:VCALENDAR
VERSION:2.0
PRODID:-//ChamberMaster//Event Calendar 2.0//EN
METHOD:PUBLISH
X-PUBLISHED-TTL:P3D
REFRESH-INTERVAL:P3D
CALSCALE:GREGORIAN
BEGIN:VEVENT
DTSTART:20260422T140000Z
DTEND:20260422T180000Z
X-MICROSOFT-CDO-ALLDAYEVENT:FALSE
SUMMARY:Earth Day Event at Edisto Beach State Park
DESCRIPTION:Join the Edisto Island Open Land Trust in collaboration with the Edisto Beach State Park for a beach litter pickup. We will be at the Environmental Learning Center and at Shelter #1 at the Beach from 10:00-2:00. Grab a trash bag\, bring your haul back to us and receive a free reusable tote bag for your efforts to keep Edisto beautiful.
X-ALT-DESC;FMTTYPE=text/html:Join the Edisto Island Open Land Trust in collaboration with the Edisto Beach State Park for a beach litter pickup. We will be at the Environmental Learning Center and at Shelter #1 at the Beach from 10:00-2:00. Grab a trash bag\, bring your haul back to us and receive a free reusable tote bag for your efforts to keep Edisto beautiful.
LOCATION:Edisto Beach State Park ELC and beach shelter #1
UID:e.2660.11720
SEQUENCE:3
DTSTAMP:20260422T181418Z
URL:https://members.edistochamber.com/events/details/earth-day-event-at-edisto-beach-state-park-11720
END:VEVENT

END:VCALENDAR
