BEGIN:VCALENDAR
VERSION:2.0
PRODID:-//ChamberMaster//Event Calendar 2.0//EN
METHOD:PUBLISH
X-PUBLISHED-TTL:P3D
REFRESH-INTERVAL:P3D
CALSCALE:GREGORIAN
BEGIN:VEVENT
DTSTART:20260422T140000Z
DTEND:20260422T180000Z
X-MICROSOFT-CDO-ALLDAYEVENT:FALSE
SUMMARY:Earth Day 2026
DESCRIPTION:The Edisto Island Open Land Trust is partnering with the Edisto Beach State Park for an Earth Day Event! You can swing by the Environmental Learning Center to see all the cool activities and displays available. The Land Trust will have bags and gloves there for a litter pick up. Return your bag to our table and receive a reusable Land Trust tote bag for your efforts.\n\n\n\nYou can also visit us at the picnic shelter at the Start Park beach to do a beach litter pick up. There will also be other activities for kids at the beach area! Your admission fee is waived if you participate in the litter pick up. Just stop at the entrance and let them know your destination.\n\n\n\nCome and help us celebrate the only planet we have!!!
X-ALT-DESC;FMTTYPE=text/html:The Edisto Island Open Land Trust is partnering with the Edisto Beach State Park for an Earth Day Event! You can swing by the Environmental Learning Center to see all the cool activities and displays available. The Land Trust will have bags and gloves there for a litter pick up. Return your bag to our table and receive a reusable Land Trust tote bag for your efforts.<br />\n<br />\nYou can also visit us at the picnic shelter at the Start Park beach to do a beach litter pick up. There will also be other activities for kids at the beach area! Your admission fee is waived if you participate in the litter pick up.&nbsp\;Just stop at the entrance and let them know your destination.<br />\n<br />\nCome and help us celebrate the only planet we have!!!&nbsp\;
LOCATION:
UID:e.2660.11721
SEQUENCE:3
DTSTAMP:20260420T214522Z
URL:https://members.edistochamber.com/events/details/earth-day-2026-11721
END:VEVENT

END:VCALENDAR
