BEGIN:VCALENDAR
VERSION:2.0
PRODID:-//ChamberMaster//Event Calendar 2.0//EN
METHOD:PUBLISH
X-PUBLISHED-TTL:P3D
REFRESH-INTERVAL:P3D
CALSCALE:GREGORIAN
BEGIN:VEVENT
DTSTART:20260513T170000Z
DTEND:20260513T170000Z
X-MICROSOFT-CDO-ALLDAYEVENT:FALSE
SUMMARY:Creative Giving Workshop
DESCRIPTION:Do you want to help the Edisto Island Open Land Trust protect an ever-growing network of lands with foresight and visionary support? If you would like to learn more about the tax advantages of charitable giving that will have a lasting impact on keeping Edisto Island scenic\, natural and unspoiled\, then we have a great event for you.\n\n\n\nJoin us on May 13th for a free luncheon where you will have a chance to hear from seasoned financial manager\, Clay Thronton. This will be a casual and interactive opportunity to get your questions answered and to learn more about the myriad of ways you can reduce your personal tax burden while helping the charities you love.\n\n\n\nSimply RSVP by clicking HERE\n\n\n\nThe workshop with cover a variety of topics\, including\; gifts of personal property\, real estate\, life insurance\, bequests\, and of course QCDs or Qualified Charitable Donations/IRA Charitable Rollover. Clay will share his expertise and help better understand how you can benefit from supporting the organizations you love the most.
X-ALT-DESC;FMTTYPE=text/html:Do you want to help the Edisto Island Open Land Trust protect an ever-growing network of lands with foresight and visionary support? If you would like to learn more about the tax advantages of charitable giving that will have a lasting impact on keeping Edisto Island scenic\, natural and unspoiled\, then we have a great event for you.<br />\n<br />\nJoin us on May 13th for a free luncheon where you will have a chance to hear from seasoned financial manager\, Clay Thronton. This will be a casual and interactive opportunity to get your questions answered and to learn more about the myriad of ways you can reduce your personal tax burden while helping the charities you love.<br />\n<br />\nSimply RSVP by clicking <a href="https://signup.com/go/KNZJMmw">HERE</a><br />\n<br />\nThe workshop with cover a variety of topics\, including\; gifts of personal property\, real estate\, life insurance\, bequests\, and of course QCDs or Qualified Charitable Donations/IRA Charitable Rollover. Clay will share his expertise and help better understand how you can benefit from supporting the organizations you love the most.
LOCATION:
UID:e.2660.11723
SEQUENCE:3
DTSTAMP:20260421T082449Z
URL:https://members.edistochamber.com/events/details/creative-giving-workshop-11723
END:VEVENT

END:VCALENDAR
