BEGIN:VCALENDAR
VERSION:2.0
PRODID:-//ChamberMaster//Event Calendar 2.0//EN
METHOD:PUBLISH
X-PUBLISHED-TTL:P3D
REFRESH-INTERVAL:P3D
CALSCALE:GREGORIAN
BEGIN:VEVENT
DTSTART:20270704T140000Z
DTEND:20270704T150000Z
X-MICROSOFT-CDO-ALLDAYEVENT:FALSE
SUMMARY:4th of July Golf Cart Parade
DESCRIPTION:Decorate your golf carts\, bikes\, scooters etc. and join in on the fun! \n\n\n\nParade starts at 10am with line up beginning at 9:30am at Mikell & Myrtle Street.  Walkers\, bicycles and golf carts welcome!
X-ALT-DESC;FMTTYPE=text/html:Decorate your golf carts\, bikes\, scooters etc. and join in on the fun!&nbsp\;<br />\n<br />\nParade starts at 10am with line up beginning at 9:30am at Mikell &amp\; Myrtle Street.&nbsp\; Walkers\, bicycles and golf carts welcome!
LOCATION:
UID:e.2660.9904
SEQUENCE:3
DTSTAMP:20260421T155606Z
URL:https://members.edistochamber.com/events/details/4th-of-july-golf-cart-parade-07-04-2027-9904
END:VEVENT

END:VCALENDAR
