BEGIN:VCALENDAR
VERSION:2.0
PRODID:-//ChamberMaster//Event Calendar 2.0//EN
METHOD:PUBLISH
X-PUBLISHED-TTL:P3D
REFRESH-INTERVAL:P3D
CALSCALE:GREGORIAN
BEGIN:VEVENT
DTSTART;VALUE=DATE:20231013
DTEND;VALUE=DATE:20231015
TRANSP:TRANSPARENT
X-MICROSOFT-CDO-ALLDAYEVENT:TRUE
SUMMARY:4th Annual Cookin' on the Creek BBQ Festival
DESCRIPTION:Cookin' on the Creek is a SC BBQ Association sanctioned event that will feature Cody Webb and his band on Friday night\, BBQ sampling and more. Saturday will also have music\, food and festivities.\n \n\n\n\n\n\n\n\n\n\nFriday\n\n6PM-10PM\n\n$5 Admission\n\nWing throw down and music by Cody Webb.\n\nSaturday\n\n11AM-4PM\n\nBBQ Sampling\n\nLIVE MUSIC\n\nCornhole Competition\n\n*No Outside Coolers\n\n*Bring Lawn Chairs\n\n*Pets Must Be Leashed\n\n*Food and Drink Tickets $1 each
X-ALT-DESC;FMTTYPE=text/html:<div class="kvgmc6g5 cxmmr5t8 oygrvhab hcukyx3x c1et5uql" style="overflow-wrap: break-word\; margin: 0px\;"><font color="#343434" face="Segoe UI Historic\, Segoe UI\, Helvetica\, Arial\, sans-serif"><span style="caret-color: rgb(0\, 0\, 0)\; font-size: 15px\;">Cookin&#39\; on the Creek is a&nbsp\;</span></font><font color="#050505" face="Segoe UI Historic\, Segoe UI\, Helvetica\, Arial\, sans-serif"><span style="font-size: 15px\;">SC BBQ&nbsp\;Association&nbsp\;sanctioned event that&nbsp\;</span></font><font color="#343434" face="Segoe UI Historic\, Segoe UI\, Helvetica\, Arial\, sans-serif"><span style="caret-color: rgb(0\, 0\, 0)\; font-size: 15px\;">will feature Cody Webb and his band on Friday night\, BBQ sampling and more. Saturday will also have music\, food and festivities.</span></font>\n<div class="panel-separator" style="color: rgb(0\, 0\, 0)\; font-family: &quot\;Segoe UI Historic&quot\;\, &quot\;Segoe UI&quot\;\, Helvetica\, Arial\, sans-serif\; font-size: 15px\; caret-color: rgb(0\, 0\, 0)\; box-sizing: border-box\;">&nbsp\;</div>\n\n<div class="panel-pane pane-node-links link-wrapper" style="color: rgb(0\, 0\, 0)\; font-family: &quot\;Segoe UI Historic&quot\;\, &quot\;Segoe UI&quot\;\, Helvetica\, Arial\, sans-serif\; font-size: 15px\; caret-color: rgb(0\, 0\, 0)\; box-sizing: border-box\; margin-top: 1em\;">\n<div class="pane-content" style="box-sizing: border-box\; caret-color: rgb(85\, 85\, 85)\; color: rgb(85\, 85\, 85)\; font-family: Montserrat\, Arial\, sans-serif\; font-size: 16px\;">\n<ul class="links inline" style="box-sizing: border-box\; padding-right: 0px\; padding-left: 0px\; display: flex\; flex-direction: row\;">\n</ul>\n</div>\n</div>\n</div>\n\n<div class="cxmmr5t8 oygrvhab hcukyx3x c1et5uql o9v6fnle" style="overflow-wrap: break-word\; margin: 0.5em 0px 0px\; font-family: &quot\;Segoe UI Historic&quot\;\, &quot\;Segoe UI&quot\;\, Helvetica\, Arial\, sans-serif\; color: rgb(5\, 5\, 5)\; font-size: 15px\;">Friday<br />\n6PM-10PM<br />\n$5 Admission<br />\nWing throw down and music by Cody Webb.</div>\n\n<div class="cxmmr5t8 oygrvhab hcukyx3x c1et5uql o9v6fnle" style="overflow-wrap: break-word\; margin: 0.5em 0px 0px\; font-family: &quot\;Segoe UI Historic&quot\;\, &quot\;Segoe UI&quot\;\, Helvetica\, Arial\, sans-serif\; color: rgb(5\, 5\, 5)\; font-size: 15px\;">Saturday<br />\n11AM-4PM<br />\nBBQ Sampling<br />\nLIVE MUSIC<br />\nCornhole Competition</div>\n\n<div class="cxmmr5t8 oygrvhab hcukyx3x c1et5uql o9v6fnle" style="overflow-wrap: break-word\; margin: 0.5em 0px 0px\; font-family: &quot\;Segoe UI Historic&quot\;\, &quot\;Segoe UI&quot\;\, Helvetica\, Arial\, sans-serif\; color: rgb(5\, 5\, 5)\; font-size: 15px\;">*No Outside Coolers</div>\n\n<div class="cxmmr5t8 oygrvhab hcukyx3x c1et5uql o9v6fnle" style="overflow-wrap: break-word\; margin: 0.5em 0px 0px\; font-family: &quot\;Segoe UI Historic&quot\;\, &quot\;Segoe UI&quot\;\, Helvetica\, Arial\, sans-serif\; color: rgb(5\, 5\, 5)\; font-size: 15px\;">*Bring Lawn Chairs</div>\n\n<div class="cxmmr5t8 oygrvhab hcukyx3x c1et5uql o9v6fnle" style="overflow-wrap: break-word\; margin: 0.5em 0px 0px\; font-family: &quot\;Segoe UI Historic&quot\;\, &quot\;Segoe UI&quot\;\, Helvetica\, Arial\, sans-serif\; color: rgb(5\, 5\, 5)\; font-size: 15px\;">*Pets Must Be Leashed</div>\n\n<div class="cxmmr5t8 oygrvhab hcukyx3x c1et5uql o9v6fnle" style="overflow-wrap: break-word\; margin: 0.5em 0px 0px\; font-family: &quot\;Segoe UI Historic&quot\;\, &quot\;Segoe UI&quot\;\, Helvetica\, Arial\, sans-serif\; color: rgb(5\, 5\, 5)\; font-size: 15px\;">*Food and Drink Tickets $1 each&nbsp\;</div>\n<br />\n&nbsp\;
LOCATION:Bay Creek Park
UID:e.2660.6364
SEQUENCE:3
DTSTAMP:20260423T184427Z
URL:https://members.edistochamber.com/events/details/4th-annual-cookin-on-the-creek-bbq-festival-6364
END:VEVENT

END:VCALENDAR
