BEGIN:VCALENDAR
VERSION:2.0
PRODID:-//ChamberMaster//Event Calendar 2.0//EN
METHOD:PUBLISH
X-PUBLISHED-TTL:P3D
REFRESH-INTERVAL:P3D
CALSCALE:GREGORIAN
BEGIN:VEVENT
DTSTART:20231209T190000Z
DTEND:20231209T193000Z
X-MICROSOFT-CDO-ALLDAYEVENT:FALSE
SUMMARY:Edisto Christmas Parade
DESCRIPTION:33rd Annual\n\nThis year's theme: Summertime in December\n\n\n\nEntry is free. REGISTER HERE TO PARTICIPATE
X-ALT-DESC;FMTTYPE=text/html:33rd Annual<br />\nThis year&#39\;s theme: Summertime in December<br />\n<br />\nEntry is free. <a href="https://docs.google.com/forms/d/e/1FAIpQLSc4tr3U6N_2xihuuhDMvhu3MN4pqWQBrvjZ7NTvIZ8AbN9JGw/viewform?usp=sf_link">REGISTER HERE TO PARTICIPATE</a>
LOCATION:The parade will begin between the 500/600 block at the intersection of Palmetto Blvd. and Atlantic St. It continues through the end of Palmetto Blvd. at the EnMarket gas station.
UID:e.2660.229
SEQUENCE:3
DTSTAMP:20260423T184922Z
URL:https://members.edistochamber.com/events/details/27th-annual-edisto-christmas-parade-12-09-2023-229
END:VEVENT

END:VCALENDAR
