BEGIN:VCALENDAR
VERSION:2.0
PRODID:-//ChamberMaster//Event Calendar 2.0//EN
METHOD:PUBLISH
X-PUBLISHED-TTL:P3D
REFRESH-INTERVAL:P3D
CALSCALE:GREGORIAN
BEGIN:VEVENT
DTSTART:20251028T213000Z
DTEND:20251028T230000Z
X-MICROSOFT-CDO-ALLDAYEVENT:FALSE
SUMMARY:16th Annual Trick or Treat at the Creek
DESCRIPTION:Fun for all - Trick or Treating at Bay Creek Park.  Plan to bring the youngsters to trick or treat and play games.  Members of the community are welcomed to bring and hand out bagged and individually wrapped candy. Please email Phyllis McElveen at pmcelveen@townofedistobeach if you would like to donate or participate or both!
X-ALT-DESC;FMTTYPE=text/html:<span style="font-size: 1.15em\; font-weight: 600\; caret-color: rgb(85\, 85\, 85)\; color: rgb(85\, 85\, 85)\; font-family: Montserrat\, Arial\, sans-serif\;">Fun for all - Trick or Treating at Bay Creek Park.&nbsp\; Plan to bring the youngsters to trick or treat and play games.&nbsp\; Members of the community are welcomed to bring and hand out bagged and individually wrapped candy. Please email Phyllis McElveen at pmcelveen@townofedistobeach if you would like to donate or participate or both!</span>
LOCATION:Bay Creek Park
UID:e.2660.10377
SEQUENCE:3
DTSTAMP:20260422T083534Z
URL:https://members.edistochamber.com/events/details/16th-annual-trick-or-treat-at-the-creek-10377
END:VEVENT

END:VCALENDAR
